BEGIN:VCALENDAR
PRODID:-//AT Content Types//AT Event//EN
VERSION:1.0
BEGIN:VEVENT
DTSTART:20221205T123000Z
DTEND:20221205T124500Z
DCREATED:20220803T125602Z
UID:ATEvent-3506dd9c3303477e8f91bc79edc68c0c
SEQUENCE:0
LAST-MODIFIED:20221129T124521Z
SUMMARY:NO RISC Forum
PRIORITY:3
TRANSP:0
END:VEVENT
END:VCALENDAR
