BEGIN:VCALENDAR
PRODID:-//AT Content Types//AT Event//EN
VERSION:1.0
BEGIN:VEVENT
DTSTART:20221114T123000Z
DTEND:20221114T124500Z
DCREATED:20220803T125602Z
UID:ATEvent-17c54e6b0cce4a8187c959e13c6f58d3
SEQUENCE:0
LAST-MODIFIED:20221114T123419Z
SUMMARY:RISC Forum
DESCRIPTION:David Cerna: Excuesions into Inductive Synthesis
PRIORITY:3
TRANSP:0
END:VEVENT
END:VCALENDAR
