BEGIN:VCALENDAR
PRODID:-//AT Content Types//AT Event//EN
VERSION:1.0
BEGIN:VEVENT
DTSTART:20211101T123000Z
DTEND:20211101T124500Z
DCREATED:20210909T130201Z
UID:ATEvent-bbeb1eabd6ab4c41b57c6283332dd38a
SEQUENCE:0
LAST-MODIFIED:20210909T130319Z
SUMMARY:NO RISC Forum
DESCRIPTION:All Souls Day (Holiday)
PRIORITY:3
TRANSP:0
END:VEVENT
END:VCALENDAR
