BEGIN:VCALENDAR
PRODID:-//AT Content Types//AT Event//EN
VERSION:2.0
METHOD:PUBLISH
BEGIN:VEVENT
DTSTAMP:20260422T024329Z
CREATED:20191121T110651Z
UID:ATEvent-ac1997dce84b479aa1276285faf45d70
LAST-MODIFIED:20200317T202255Z
SUMMARY:RISC Forum
DTSTART:20200302T123000Z
DTEND:20200302T124500Z
DESCRIPTION:Franz Winkler: Organizational items
CLASS:PUBLIC
END:VEVENT
END:VCALENDAR
