BEGIN:VCALENDAR
PRODID:-//AT Content Types//AT Event//EN
VERSION:1.0
BEGIN:VEVENT
DTSTART:20220606T113000Z
DTEND:20220606T114500Z
DCREATED:20220120T082542Z
UID:ATEvent-79673874af2c44bb82db75f02f44bfdf
SEQUENCE:0
LAST-MODIFIED:20220120T084106Z
SUMMARY:NO RISC Forum
DESCRIPTION:Holiday (Pentecost)
PRIORITY:3
TRANSP:0
END:VEVENT
END:VCALENDAR
