BEGIN:VCALENDAR
PRODID:-//AT Content Types//AT Event//EN
VERSION:2.0
METHOD:PUBLISH
BEGIN:VEVENT
DTSTAMP:20260422T112610Z
CREATED:20220120T082542Z
UID:ATEvent-d8f8f347a20047e493173b09054353b3
LAST-MODIFIED:20220120T082758Z
SUMMARY:RISC Forum
DTSTART:20220307T123000Z
DTEND:20220307T130000Z
DESCRIPTION:Prof. Paule: Welcome to the new Semester\; organizational 
 Items.
LOCATION:Zoom
CLASS:PUBLIC
END:VEVENT
END:VCALENDAR
