BEGIN:VCALENDAR
PRODID:-//AT Content Types//AT Event//EN
VERSION:1.0
BEGIN:VEVENT
DTSTART:20250310T120000Z
DTEND:20250310T160000Z
DCREATED:20250303T114615Z
UID:ATEvent-39e4ce65c4a44cae97f56b86d558976d
SEQUENCE:0
LAST-MODIFIED:20250303T114918Z
SUMMARY:FIRST AID COURSE
DESCRIPTION:First Aid Course at RISC
PRIORITY:3
TRANSP:0
END:VEVENT
END:VCALENDAR
