BEGIN:VCALENDAR
PRODID:-//AT Content Types//AT Event//EN
VERSION:1.0
BEGIN:VEVENT
DTSTART:20250331T113000Z
DTEND:20250331T114500Z
DCREATED:20250303T114615Z
UID:ATEvent-5a57fb23cfd14b11a4e2ad0fd85c8e68
SEQUENCE:0
LAST-MODIFIED:20250305T115219Z
SUMMARY:RISC Forum
DESCRIPTION:NN: TBA
PRIORITY:3
TRANSP:0
END:VEVENT
END:VCALENDAR
