BEGIN:VCALENDAR
PRODID:-//AT Content Types//AT Event//EN
VERSION:1.0
BEGIN:VEVENT
DTSTART:20250324T123000Z
DTEND:20250324T133000Z
DCREATED:20250303T114615Z
UID:ATEvent-3a9554dbd469453381ad797a5ec5aef5
SEQUENCE:0
LAST-MODIFIED:20250305T115037Z
SUMMARY:RISC Forum
DESCRIPTION:Nikolaj Popov: TBA
PRIORITY:3
TRANSP:0
END:VEVENT
END:VCALENDAR
