BEGIN:VCALENDAR
PRODID:-//AT Content Types//AT Event//EN
VERSION:2.0
METHOD:PUBLISH
BEGIN:VEVENT
DTSTAMP:20260421T142818Z
CREATED:20250303T114615Z
UID:ATEvent-0dabca7a382f4c52987223a0a1273f67
LAST-MODIFIED:20250303T115511Z
SUMMARY:NO RISC Forum
DTSTART:20250421T113000Z
DTEND:20250421T114500Z
DESCRIPTION:Easter-Holiday
CLASS:PUBLIC
END:VEVENT
END:VCALENDAR
