BEGIN:VCALENDAR
PRODID:-//AT Content Types//AT Event//EN
VERSION:1.0
BEGIN:VEVENT
DTSTART:20250519T113000Z
DTEND:20250519T123000Z
DCREATED:20250303T114615Z
UID:ATEvent-1fa87b1a87ea4fa98eb625f7ff661be1
SEQUENCE:0
LAST-MODIFIED:20250424T133653Z
SUMMARY:RISC Forum
DESCRIPTION:Thaynara Arielly de Lima: A PVS Library on Infinitude of P
 rimes
PRIORITY:3
TRANSP:0
END:VEVENT
END:VCALENDAR
