BEGIN:VCALENDAR
PRODID:-//AT Content Types//AT Event//EN
VERSION:1.0
BEGIN:VEVENT
DTSTART:20250616T113000Z
DTEND:20250616T114500Z
DCREATED:20250303T114615Z
UID:ATEvent-cca39615af9f4309bcd38997117158df
SEQUENCE:0
LAST-MODIFIED:20250602T073544Z
SUMMARY:RISC Forum
DESCRIPTION:Tereso Del Rio Almajano: Speeding Up Quantifier Eliminatio
 n by Machine learning
PRIORITY:3
TRANSP:0
END:VEVENT
END:VCALENDAR
