BEGIN:VCALENDAR
PRODID:-//AT Content Types//AT Event//EN
VERSION:2.0
METHOD:PUBLISH
BEGIN:VEVENT
DTSTAMP:20260421T142842Z
CREATED:20250303T114615Z
UID:ATEvent-dc73c07a4e6944508542369831fbec45
LAST-MODIFIED:20250303T115415Z
SUMMARY:NO RISC Forum (lecture free)
DTSTART:20250414T113000Z
DTEND:20250414T114500Z
CLASS:PUBLIC
END:VEVENT
END:VCALENDAR
