BEGIN:VCALENDAR
PRODID:-//AT Content Types//AT Event//EN
VERSION:1.0
BEGIN:VEVENT
DTSTART:20250512T113000Z
DTEND:20250512T123000Z
DCREATED:20250303T114615Z
UID:ATEvent-623941ddcfdf4923adee39d6db131699
SEQUENCE:0
LAST-MODIFIED:20250514T074058Z
SUMMARY:RISC Forum
DESCRIPTION:Carsten Schneider: Symbolic summation and integration tech
 niques for Feynman integrals
PRIORITY:3
TRANSP:0
END:VEVENT
END:VCALENDAR
