BEGIN:VCALENDAR
PRODID:-//AT Content Types//AT Event//EN
VERSION:1.0
BEGIN:VEVENT
DTSTART:20250407T113000Z
DTEND:20250407T114500Z
DCREATED:20250303T114615Z
UID:ATEvent-f535665b124e42e49d711002415fc2ee
SEQUENCE:0
LAST-MODIFIED:20250305T115228Z
SUMMARY:RISC Forum
DESCRIPTION:Jose Capco: TBA
PRIORITY:3
TRANSP:0
END:VEVENT
END:VCALENDAR
