BEGIN:VCALENDAR
PRODID:-//AT Content Types//AT Event//EN
VERSION:2.0
METHOD:PUBLISH
BEGIN:VEVENT
DTSTAMP:20260421T142842Z
CREATED:20250303T114615Z
UID:ATEvent-1c69caeadd824adb8ae81c91cc431878
LAST-MODIFIED:20250303T115659Z
SUMMARY:FIRST AID COURSE
DTSTART:20250505T110000Z
DTEND:20250505T150000Z
DESCRIPTION:First Aid Course at RISC
CLASS:PUBLIC
END:VEVENT
END:VCALENDAR
