BEGIN:VCALENDAR
PRODID:-//AT Content Types//AT Event//EN
VERSION:1.0
BEGIN:VEVENT
DTSTART:20241007T113000Z
DTEND:20241007T114500Z
DCREATED:20240917T075027Z
UID:ATEvent-c2d0bdc939c94928a06aa04a5cb806e0
SEQUENCE:0
LAST-MODIFIED:20240918T083143Z
SUMMARY:RISC Forum
DESCRIPTION:Yiman Gao: self introduction
PRIORITY:3
TRANSP:0
END:VEVENT
END:VCALENDAR
