BEGIN:VCALENDAR
PRODID:-//AT Content Types//AT Event//EN
VERSION:1.0
BEGIN:VEVENT
DTSTART:20190325T123000Z
DTEND:20190325T125500Z
DCREATED:20190129T074223Z
UID:ATEvent-a230d466559049daa2bf076a1567b5e8
SEQUENCE:0
LAST-MODIFIED:20190318T122941Z
SUMMARY:RISC Forum
DESCRIPTION:Barbara Qi: The Quotient Space of n Points on a Projective
  Line\;\nWolfgang Windsteiger: TBA
PRIORITY:3
TRANSP:0
END:VEVENT
END:VCALENDAR
