BEGIN:VCALENDAR
PRODID:-//AT Content Types//AT Event//EN
VERSION:2.0
METHOD:PUBLISH
BEGIN:VEVENT
DTSTAMP:20260422T022200Z
CREATED:20181002T075424Z
UID:ATEvent-b206c767d93c4420bc1a7917b44c3bdd
LAST-MODIFIED:20181002T075957Z
SUMMARY:NO RISC Forum
DTSTART:20181210T110000Z
DTEND:20181210T110000Z
DESCRIPTION:NO RISC-Forum: RISC Christmas-Event
CLASS:PUBLIC
END:VEVENT
END:VCALENDAR
