BEGIN:VCALENDAR
PRODID:-//AT Content Types//AT Event//EN
VERSION:1.0
BEGIN:VEVENT
DTSTART:20161121T123000Z
DTEND:20161121T130000Z
DCREATED:20161012T062720Z
UID:ATEvent-e353332b3270474da7c8e0eadbce8565
SEQUENCE:0
LAST-MODIFIED:20161012T062740Z
SUMMARY:RISC Forum
DESCRIPTION:Self-introduction by Antonio Jimenez Pastor\, Jan Legersky
 \, Lin Jiu and Nicolas Smoot
LOCATION:Seminar room castle
PRIORITY:3
TRANSP:0
END:VEVENT
END:VCALENDAR
