BEGIN:VCALENDAR
PRODID:-//AT Content Types//AT Event//EN
VERSION:1.0
BEGIN:VEVENT
DTSTART:20161107T123000Z
DTEND:20161107T130500Z
DCREATED:20160920T113747Z
UID:ATEvent-086aa4efeef44695b56169451c68e61f
SEQUENCE:0
LAST-MODIFIED:20161012T061335Z
SUMMARY:RISC Forum
DESCRIPTION:David Cerna: visit to the conference SCSS 2016\; Christoph
  Fuerst: Axiomatic Description of Groebner Reduction (thesis defense)
LOCATION:Seminar room castle
PRIORITY:3
TRANSP:0
END:VEVENT
END:VCALENDAR
