BEGIN:VCALENDAR
PRODID:-//AT Content Types//AT Event//EN
VERSION:1.0
BEGIN:VEVENT
DTSTART:20161024T113000Z
DTEND:20161024T120000Z
DCREATED:20160927T140614Z
UID:ATEvent-37b0a274d4fc4084a16b5a927c8febb2
SEQUENCE:0
LAST-MODIFIED:20161012T061433Z
SUMMARY:RISC Forum
DESCRIPTION:Jose Capco: Algebraic extensions and algebraic closures of
  commutative rings
LOCATION:Seminar room castle
PRIORITY:3
TRANSP:0
END:VEVENT
END:VCALENDAR
