BEGIN:VCALENDAR
PRODID:-//AT Content Types//AT Event//EN
VERSION:1.0
BEGIN:VEVENT
DTSTART:20161010T113000Z
DTEND:20161010T120000Z
DCREATED:20160831T142851Z
UID:ATEvent-14f9603cfa3a466d8d1e1ae80dd3f2ce
SEQUENCE:0
LAST-MODIFIED:20160831T142904Z
SUMMARY:RISC Forum
DESCRIPTION:Ngoc Thieu: Report: Visit CUNY\, New York
LOCATION:Seminar room pond
PRIORITY:3
TRANSP:0
END:VEVENT
END:VCALENDAR
