BEGIN:VCALENDAR
PRODID:-//AT Content Types//AT Event//EN
VERSION:2.0
METHOD:PUBLISH
BEGIN:VEVENT
DTSTAMP:20260422T043809Z
CREATED:20160530T105644Z
UID:ATEvent-076a967671704b40a98ae303ae5442e4
LAST-MODIFIED:20160530T105659Z
SUMMARY:RISC Forum
DTSTART:20160606T113000Z
DTEND:20160606T120000Z
DESCRIPTION:Josef Schicho: On the Lecture "Algebraic Methods of Kinema
 tics"
LOCATION:Seminar room castle
CLASS:PUBLIC
END:VEVENT
END:VCALENDAR
