BEGIN:VCALENDAR
PRODID:-//AT Content Types//AT Event//EN
VERSION:2.0
METHOD:PUBLISH
BEGIN:VEVENT
DTSTAMP:20260422T043907Z
CREATED:20160530T062240Z
UID:ATEvent-3c9cdedbae5d42efabaad2b98667dbb8
LAST-MODIFIED:20160530T062252Z
SUMMARY:RISC Forum
DTSTART:20160530T113000Z
DTEND:20160530T114500Z
DESCRIPTION:Heinrich Rolletschek: More on the Euclidean algorithm in n
 umber fields
LOCATION:Seminar room castle
CLASS:PUBLIC
END:VEVENT
END:VCALENDAR
