BEGIN:VCALENDAR
PRODID:-//AT Content Types//AT Event//EN
VERSION:2.0
METHOD:PUBLISH
BEGIN:VEVENT
DTSTAMP:20260422T044024Z
CREATED:20160413T154659Z
UID:ATEvent-95cfb73237814e9ca5973b7c59daa878
LAST-MODIFIED:20160413T154831Z
SUMMARY:Risc Colloquium
DTSTART:20160502T113000Z
DTEND:20160502T123000Z
DESCRIPTION:Prof. Krishnaswami Alladi: The number of prime factors of 
 integers - a selection of charming results both old and new
LOCATION:Seminar room castle
CLASS:PUBLIC
END:VEVENT
END:VCALENDAR
