BEGIN:VCALENDAR
PRODID:-//AT Content Types//AT Event//EN
VERSION:2.0
METHOD:PUBLISH
BEGIN:VEVENT
DTSTAMP:20260422T044025Z
CREATED:20160413T150040Z
UID:ATEvent-94fe30bd9c4846779653b7e0ad68de74
LAST-MODIFIED:20160413T150121Z
SUMMARY:Risc Colloquium
DTSTART:20160425T113000Z
DTEND:20160425T123000Z
DESCRIPTION:Prof. Krishnaswami Alladi: Paul Erdös---one of the most i
 nfluential mathematicians of our times
LOCATION:Seminar room castle
CLASS:PUBLIC
END:VEVENT
END:VCALENDAR
