BEGIN:VCALENDAR
PRODID:-//AT Content Types//AT Event//EN
VERSION:2.0
METHOD:PUBLISH
BEGIN:VEVENT
DTSTAMP:20260422T044028Z
CREATED:20160314T125947Z
UID:ATEvent-db2905f2e7244ddeb61e801f84f1142b
LAST-MODIFIED:20160314T130001Z
SUMMARY:RISC Forum
DTSTART:20160418T113000Z
DTEND:20160418T115000Z
DESCRIPTION:Werner Landerl\, Ralf Wahner: system administration - curr
 ent status and plans
LOCATION:Seminar room castle
CLASS:PUBLIC
END:VEVENT
END:VCALENDAR
