BEGIN:VCALENDAR
PRODID:-//AT Content Types//AT Event//EN
VERSION:1.0
BEGIN:VEVENT
DTSTART:20160404T113000Z
DTEND:20160404T122000Z
DCREATED:20160330T154631Z
UID:ATEvent-064ceb0939024be7b046445e63cbd1af
SEQUENCE:0
LAST-MODIFIED:20160330T155022Z
SUMMARY:Risc Colloquium
DESCRIPTION:Dr.~Dimitris Simos: Information Security through Combinato
 rial Designs and Symbolic Computation: Recent Results and Challenges A
 head
PRIORITY:3
TRANSP:0
END:VEVENT
END:VCALENDAR
