BEGIN:VCALENDAR
PRODID:-//AT Content Types//AT Event//EN
VERSION:2.0
METHOD:PUBLISH
BEGIN:VEVENT
DTSTAMP:20260422T043806Z
CREATED:20160303T122052Z
UID:ATEvent-a7ebed8de9814cd4b6c12554bff1513f
LAST-MODIFIED:20160303T122101Z
SUMMARY:RISC Forum
DTSTART:20160307T123000Z
DTEND:20160307T125000Z
DESCRIPTION:Wolfgang Windsteiger: New RISC letter format
LOCATION:Seminar room castle
CLASS:PUBLIC
END:VEVENT
END:VCALENDAR
