BEGIN:VCALENDAR
PRODID:-//AT Content Types//AT Event//EN
VERSION:1.0
BEGIN:VEVENT
DTSTART:20160125T123000Z
DTEND:20160125T125000Z
DCREATED:20160112T080509Z
UID:ATEvent-29716fed86a545629ecc2718b00a1bfb
SEQUENCE:0
LAST-MODIFIED:20160112T080519Z
SUMMARY:RISC Forum
DESCRIPTION:Prof. Franz Winkler: Work on Algebraic Differential Equati
 ons
LOCATION:Seminar room pond
PRIORITY:3
TRANSP:0
END:VEVENT
END:VCALENDAR
