BEGIN:VCALENDAR
PRODID:-//AT Content Types//AT Event//EN
VERSION:2.0
METHOD:PUBLISH
BEGIN:VEVENT
DTSTAMP:20260422T063351Z
CREATED:20160118T074500Z
UID:ATEvent-c7b8a0df94384b8d877f2000458cbca0
LAST-MODIFIED:20160118T074507Z
SUMMARY:RISC Forum
DTSTART:20160118T123000Z
DTEND:20160118T124000Z
DESCRIPTION:Prof. Peter Paule: Fields Program on Computer Algebra 2015
 
LOCATION:Seminar room pond
CLASS:PUBLIC
END:VEVENT
END:VCALENDAR
