BEGIN:VCALENDAR
PRODID:-//AT Content Types//AT Event//EN
VERSION:1.0
BEGIN:VEVENT
DTSTART:20140505T113000Z
DTEND:20140505T121500Z
DCREATED:20140428T092841Z
UID:ATEvent-6a236378230b407ab9a6e4f14a589265
SEQUENCE:0
LAST-MODIFIED:20140428T092852Z
SUMMARY:RISC Forum
DESCRIPTION:Muhammad Taimoor Khan: PhD-Thesis
LOCATION:Seminar Room Schloss Hagenberg
PRIORITY:3
TRANSP:0
END:VEVENT
END:VCALENDAR
