BEGIN:VCALENDAR
PRODID:-//AT Content Types//AT Event//EN
VERSION:1.0
BEGIN:VEVENT
DTSTART:20111114T123000Z
DTEND:20111114T124000Z
DCREATED:20111013T112457Z
UID:ATEvent-b0a3dbe40b9192952244d52cab288a87
SEQUENCE:0
LAST-MODIFIED:20111024T124406Z
SUMMARY:RISC Forum
DESCRIPTION:Mark Round: Self-Introduction\; Dr. Mirzaakbar Hudayberdie
 v: Self-Introduction
LOCATION:Seminar Room
PRIORITY:3
TRANSP:0
END:VEVENT
END:VCALENDAR
