BEGIN:VCALENDAR
PRODID:-//AT Content Types//AT Event//EN
VERSION:1.0
BEGIN:VEVENT
DTSTART:20110110T123000Z
DTEND:20110110T131500Z
DCREATED:20101206T161714Z
UID:ATEvent-677b089096f61a98d3fbc9ca92193a25
SEQUENCE:0
LAST-MODIFIED:20101206T213637Z
SUMMARY:RISC Colloquium
DESCRIPTION:Dr. Johannes Bluemlein: The Direction of Physical Time
LOCATION:Seminar Room
PRIORITY:3
TRANSP:0
END:VEVENT
END:VCALENDAR
