BEGIN:VCALENDAR
PRODID:-//AT Content Types//AT Event//EN
VERSION:1.0
BEGIN:VEVENT
DTSTART:20101206T123000Z
DTEND:20101206T125000Z
DCREATED:20101130T095155Z
UID:ATEvent-8985fdf22940f2bbdbaf2f952dbc9bb7
SEQUENCE:0
LAST-MODIFIED:20101130T095200Z
SUMMARY:RISC Forum
DESCRIPTION:Jakob Praher: Self-Introduction\; Peter Paule: About RISC
LOCATION:Seminar Room
PRIORITY:3
TRANSP:0
END:VEVENT
END:VCALENDAR
