BEGIN:VCALENDAR
PRODID:-//AT Content Types//AT Event//EN
VERSION:2.0
METHOD:PUBLISH
BEGIN:VEVENT
DTSTAMP:20260422T112430Z
CREATED:20101104T123026Z
UID:ATEvent-553bd365a33fc5c838cc426b5d92fa57
LAST-MODIFIED:20101104T123033Z
SUMMARY:RISC Forum
DTSTART:20101115T123000Z
DTEND:20101115T125000Z
DESCRIPTION:Christoph Koutschan: Stay in New Orleans
LOCATION:Seminar Room
CLASS:PUBLIC
END:VEVENT
END:VCALENDAR
