BEGIN:VCALENDAR
PRODID:-//AT Content Types//AT Event//EN
VERSION:2.0
METHOD:PUBLISH
BEGIN:VEVENT
DTSTAMP:20260422T112418Z
CREATED:20101104T122810Z
UID:ATEvent-03393ad4be501ba7e8148a1bddd48504
LAST-MODIFIED:20101104T122817Z
SUMMARY:RISC Forum
DTSTART:20101108T123000Z
DTEND:20101108T124500Z
DESCRIPTION:Veronika Pillwein: Stay in Berlin
LOCATION:Seminar Room
CLASS:PUBLIC
END:VEVENT
END:VCALENDAR
