BEGIN:VCALENDAR
PRODID:-//AT Content Types//AT Event//EN
VERSION:2.0
METHOD:PUBLISH
BEGIN:VEVENT
DTSTAMP:20260422T112416Z
CREATED:20101011T115634Z
UID:ATEvent-6317e34700bf7b15772fdf8c6be2e86d
LAST-MODIFIED:20101011T122338Z
SUMMARY:RISC Forum
DTSTART:20101018T113000Z
DTEND:20101018T120000Z
DESCRIPTION:Wolfgang Windsteiger: Extension of RISC
LOCATION:Seminar Room
CATEGORIES:Talk
CLASS:PUBLIC
END:VEVENT
END:VCALENDAR
