BEGIN:VCALENDAR
PRODID:-//AT Content Types//AT Event//EN
VERSION:1.0
BEGIN:VEVENT
DTSTART:20101011T113000Z
DTEND:20101011T120000Z
DCREATED:20101005T081517Z
UID:ATEvent-235e2d499206b5d340dd470ec05a1668
SEQUENCE:0
LAST-MODIFIED:20101005T081611Z
SUMMARY:RISC Forum
DESCRIPTION:Fredrik Johansson: Self-Introduction\; Cehavir Demirkiran:
  Self-Introduction\; Yanli Huang: Self-introduction
LOCATION:Seminar Room
PRIORITY:3
TRANSP:0
END:VEVENT
END:VCALENDAR
