BEGIN:VCALENDAR
PRODID:-//AT Content Types//AT Event//EN
VERSION:2.0
METHOD:PUBLISH
BEGIN:VEVENT
DTSTAMP:20260422T112251Z
CREATED:20100708T075008Z
UID:ATEvent-a113fd29a00909ab02788de26925e810
LAST-MODIFIED:20100710T211709Z
SUMMARY:RISC Colloquium
DTSTART:20100713T090000Z
DTEND:20100713T100000Z
DESCRIPTION:Prof. Dongming Wang (Université Pierre et Marie Curie\, P
 aris)\, Xiaoyu Chen (Beihang University\, Beijing): Formalization and 
 Management of Geometric Knowledge
LOCATION:Seminar Room
CATEGORIES:Talk
CLASS:PUBLIC
END:VEVENT
END:VCALENDAR
