BEGIN:VCALENDAR
PRODID:-//AT Content Types//AT Event//EN
VERSION:2.0
METHOD:PUBLISH
BEGIN:VEVENT
DTSTAMP:20260422T112253Z
CREATED:20100423T090801Z
UID:ATEvent-8e599adf5a04434d33788d86fbb9443e
LAST-MODIFIED:20100423T095005Z
SUMMARY:RISC Forum
DTSTART:20100621T113000Z
DTEND:20100621T120000Z
DESCRIPTION:Christian Aistleitner: Differential aspects of differentia
 l characteristic set computations (internal thesis defense)
LOCATION:RISC seminar room
CATEGORIES:Meeting, Talk
CLASS:PUBLIC
END:VEVENT
END:VCALENDAR
