BEGIN:VCALENDAR
PRODID:-//AT Content Types//AT Event//EN
VERSION:1.0
BEGIN:VEVENT
DTSTART:20100614T113000Z
DTEND:20100614T115000Z
DCREATED:20100609T152145Z
UID:ATEvent-0ab24b8b3fb6969bb66777e970025a73
SEQUENCE:0
LAST-MODIFIED:20100710T211143Z
SUMMARY:RISC Forum
DESCRIPTION:Johannes Middeke: Converting matrices of Ore polynomials f
 rom Popov form to Hermite form using the FGLM algorithm
LOCATION:Seminar Room
PRIORITY:3
TRANSP:0
END:VEVENT
END:VCALENDAR
