BEGIN:VCALENDAR
PRODID:-//AT Content Types//AT Event//EN
VERSION:1.0
BEGIN:VEVENT
DTSTART:20100510T113000Z
DTEND:20100510T123000Z
DCREATED:20100419T090329Z
UID:ATEvent-cdc28879953a546116a9374fc064d315
SEQUENCE:0
LAST-MODIFIED:20100419T105309Z
SUMMARY:RISC Forum
DESCRIPTION:Markus Hohenwarter: GeoGebra - dynamic geometry and algebr
 a
LOCATION:RISC seminar room
PRIORITY:3
TRANSP:0
END:VEVENT
END:VCALENDAR
