BEGIN:VCALENDAR
PRODID:-//AT Content Types//AT Event//EN
VERSION:2.0
METHOD:PUBLISH
BEGIN:VEVENT
DTSTAMP:20260422T112430Z
CREATED:20100414T155420Z
UID:ATEvent-4d139f313f118b214cee895861798cf1
LAST-MODIFIED:20100414T171823Z
SUMMARY:RISC Forum
DTSTART:20100503T113000Z
DTEND:20100503T115000Z
DESCRIPTION:Karoly Bosa: RISC Activities in Parallel/Distributed Compu
 ting: the Projects Austrian Grid and SCIEnce
LOCATION:RISC seminar room
CATEGORIES:Meeting, Talk
CLASS:PUBLIC
END:VEVENT
END:VCALENDAR
