BEGIN:VCALENDAR
PRODID:-//AT Content Types//AT Event//EN
VERSION:1.0
BEGIN:VEVENT
DTSTART:20100426T113000Z
DTEND:20100426T114000Z
DCREATED:20100422T132321Z
UID:ATEvent-0285c24ce86f2ab2e5acf58c75d08fa2
SEQUENCE:0
LAST-MODIFIED:20100503T060945Z
SUMMARY:RISC Forum
DESCRIPTION:Maximilian Jaroschek: Self-Introduction\; Manuel Kauers: O
 n START projetc\; Wolfgang Schreiner: New rules for RISC system enviro
 nment
LOCATION:Seminar Room
PRIORITY:3
TRANSP:0
END:VEVENT
END:VCALENDAR
