BEGIN:VCALENDAR
PRODID:-//AT Content Types//AT Event//EN
VERSION:2.0
METHOD:PUBLISH
BEGIN:VEVENT
DTSTAMP:20260422T112430Z
CREATED:20100308T115324Z
UID:ATEvent-e3538012a83cabfde887623ad0dd86e8
LAST-MODIFIED:20100308T115336Z
SUMMARY:RISC Forum
DTSTART:20100412T113000Z
DTEND:20100412T123000Z
DESCRIPTION:Prof. Pedro Ramos: Covering Decomposition
LOCATION:Seminar Room
CLASS:PUBLIC
END:VEVENT
END:VCALENDAR
