BEGIN:VCALENDAR
PRODID:-//AT Content Types//AT Event//EN
VERSION:2.0
METHOD:PUBLISH
BEGIN:VEVENT
DTSTAMP:20260422T151645Z
CREATED:20100310T141145Z
UID:ATEvent-4609f8e5ab93584d6d6d121d3e83eeee
LAST-MODIFIED:20100317T111920Z
SUMMARY:RISC Forum
DTSTART:20100322T123000Z
DTEND:20100322T131000Z
DESCRIPTION:Hilda Kosorus: Application talk.\nNgoc Anh Pham: Applicati
 on talk.
LOCATION:Seminar Room
CLASS:PUBLIC
END:VEVENT
END:VCALENDAR
