BEGIN:VCALENDAR
PRODID:-//AT Content Types//AT Event//EN
VERSION:1.0
BEGIN:VEVENT
DTSTART:20100125T123000Z
DTEND:20100125T124500Z
DCREATED:20100125T093119Z
UID:ATEvent-a227ded284297020ed8bd0834d4ddae0
SEQUENCE:0
LAST-MODIFIED:20100125T093724Z
SUMMARY:RISC Forum
DESCRIPTION:Silviu Radu: Progress Report
LOCATION:Seminar Room
PRIORITY:3
TRANSP:0
END:VEVENT
END:VCALENDAR
