BEGIN:VCALENDAR
PRODID:-//AT Content Types//AT Event//EN
VERSION:1.0
BEGIN:VEVENT
DTSTART:20100111T123000Z
DTEND:20100111T124500Z
DCREATED:20100111T072029Z
UID:ATEvent-c9234981d3be8c14316e209f5215f487
SEQUENCE:0
LAST-MODIFIED:20100125T093749Z
SUMMARY:RISC Forum
DESCRIPTION:Heinrich Rolletschek: Lecture Chess Programming
LOCATION:Seminar Room
PRIORITY:3
TRANSP:0
END:VEVENT
END:VCALENDAR
